BEGIN:VCALENDAR
VERSION:2.0
PRODID:-//NOTRE LIEU® Incubateur de Visibilité Territoriale - ECPv6.0.3//NONSGML v1.0//EN
CALSCALE:GREGORIAN
METHOD:PUBLISH
X-ORIGINAL-URL:https://www.notrelieu.fr
X-WR-CALDESC:évènements pour NOTRE LIEU® Incubateur de Visibilité Territoriale
REFRESH-INTERVAL;VALUE=DURATION:PT1H
X-Robots-Tag:noindex
X-PUBLISHED-TTL:PT1H
BEGIN:VTIMEZONE
TZID:Europe/Paris
BEGIN:DAYLIGHT
TZOFFSETFROM:+0100
TZOFFSETTO:+0200
TZNAME:CEST
DTSTART:20250330T010000
END:DAYLIGHT
BEGIN:STANDARD
TZOFFSETFROM:+0200
TZOFFSETTO:+0100
TZNAME:CET
DTSTART:20251026T010000
END:STANDARD
END:VTIMEZONE
BEGIN:VEVENT
DTSTART;TZID=Europe/Paris:20250625T183000
DTEND;TZID=Europe/Paris:20250625T230000
DTSTAMP:20260420T084650
CREATED:20250615T171112Z
LAST-MODIFIED:20250615T171218Z
UID:11521-1750876200-1750892400@www.notrelieu.fr
SUMMARY:Soirée privée by UNE IMPULSION
DESCRIPTION:Partenaires de vie pro & perso \n\n\nsous le regard de 5 photographes \n\n\n\n\nle 25 juin 2025 à Notre Lieu® Castelsarrasin \n\n\nwww.uneimpulsion.fr
URL:https://www.notrelieu.fr/event/soiree-privee-by-une-impulsion/
LOCATION:Notre Lieu La Maison du 16\, 16 boulevard Marceau Faure\, Castelsarrasin\, France
ATTACH;FMTTYPE=image/png:https://www.notrelieu.fr/wp-content/uploads/2025/06/Elodie-Persehaie-5.pdf30.png
ORGANIZER;CN="Une%20Impulsion":MAILTO:elodie@uneimpulsion.fr
END:VEVENT
END:VCALENDAR