BEGIN:VCALENDAR
VERSION:2.0
PRODID:-//NOTRE LIEU® Incubateur de Visibilité Territoriale - ECPv6.0.3//NONSGML v1.0//EN
CALSCALE:GREGORIAN
METHOD:PUBLISH
X-WR-CALNAME:NOTRE LIEU® Incubateur de Visibilité Territoriale
X-ORIGINAL-URL:https://www.notrelieu.fr
X-WR-CALDESC:évènements pour NOTRE LIEU® Incubateur de Visibilité Territoriale
REFRESH-INTERVAL;VALUE=DURATION:PT1H
X-Robots-Tag:noindex
X-PUBLISHED-TTL:PT1H
BEGIN:VTIMEZONE
TZID:Europe/Paris
BEGIN:DAYLIGHT
TZOFFSETFROM:+0100
TZOFFSETTO:+0200
TZNAME:CEST
DTSTART:20240331T010000
END:DAYLIGHT
BEGIN:STANDARD
TZOFFSETFROM:+0200
TZOFFSETTO:+0100
TZNAME:CET
DTSTART:20241027T010000
END:STANDARD
END:VTIMEZONE
BEGIN:VEVENT
DTSTART;TZID=Europe/Paris:20240921T180000
DTEND;TZID=Europe/Paris:20240921T200000
DTSTAMP:20260420T230208
CREATED:20240921T072109Z
LAST-MODIFIED:20240921T072109Z
UID:7979-1726941600-1726948800@www.notrelieu.fr
SUMMARY:Vernissage au Nautic à Montauban de l'artiste peintre Estéban
DESCRIPTION:
URL:https://www.notrelieu.fr/event/vernissage-au-nautic-a-montauban-de-lartiste-peintre-esteban/
ATTACH;FMTTYPE=image/png:https://www.notrelieu.fr/wp-content/uploads/2024/09/Esteban-Insta.png
END:VEVENT
END:VCALENDAR