BEGIN:VCALENDAR
VERSION:2.0
PRODID:-//NOTRE LIEU® Incubateur de Visibilité Territoriale - ECPv6.0.3//NONSGML v1.0//EN
CALSCALE:GREGORIAN
METHOD:PUBLISH
X-WR-CALNAME:NOTRE LIEU® Incubateur de Visibilité Territoriale
X-ORIGINAL-URL:https://www.notrelieu.fr
X-WR-CALDESC:évènements pour NOTRE LIEU® Incubateur de Visibilité Territoriale
REFRESH-INTERVAL;VALUE=DURATION:PT1H
X-Robots-Tag:noindex
X-PUBLISHED-TTL:PT1H
BEGIN:VTIMEZONE
TZID:Europe/Paris
BEGIN:DAYLIGHT
TZOFFSETFROM:+0100
TZOFFSETTO:+0200
TZNAME:CEST
DTSTART:20250330T010000
END:DAYLIGHT
BEGIN:STANDARD
TZOFFSETFROM:+0200
TZOFFSETTO:+0100
TZNAME:CET
DTSTART:20251026T010000
END:STANDARD
END:VTIMEZONE
BEGIN:VEVENT
DTSTART;TZID=Europe/Paris:20251003T100000
DTEND;TZID=Europe/Paris:20251004T180000
DTSTAMP:20260420T034744
CREATED:20250716T120055Z
LAST-MODIFIED:20250803T183834Z
UID:13411-1759485600-1759600800@www.notrelieu.fr
SUMMARY:Les journées Nature & Climat
DESCRIPTION:Les journées Nature & Climat \n \nEntrée gratuite pour le public \nSi vous souhaitez exposer : https://www.helloasso.com/associations/notre-lieu/evenements/les-journees-nature-climat-j-expose \n 
URL:https://www.notrelieu.fr/event/les-journees-nature-climat/
ATTACH;FMTTYPE=image/jpeg:https://www.notrelieu.fr/wp-content/uploads/2025/06/704dc76c-a4cf-42ba-acad-6612e0c40b88.jpg
ORGANIZER;CN="Notre%20Lieu%C2%AE":MAILTO:contact@notrelieu.fr
END:VEVENT
END:VCALENDAR